BEGIN:VCALENDAR
VERSION:2.0
PRODID:-//Spiral Brewery - ECPv4.9.4//NONSGML v1.0//EN
CALSCALE:GREGORIAN
METHOD:PUBLISH
X-WR-CALNAME:Spiral Brewery
X-ORIGINAL-URL:http://spiralbrewery.com
X-WR-CALDESC:Events for Spiral Brewery
BEGIN:VTIMEZONE
TZID:"UTC"
BEGIN:STANDARD
TZOFFSETFROM:+0000
TZOFFSETTO:+0000
TZNAME:UTC
DTSTART:20220101T000000
END:STANDARD
END:VTIMEZONE
BEGIN:VEVENT
DTSTART;TZID="UTC":20220817T190000
DTEND;TZID="UTC":20220817T210000
DTSTAMP:20260425T154315
CREATED:20220525T180148Z
LAST-MODIFIED:20220525T180148Z
UID:2056-1660762800-1660770000@spiralbrewery.com
SUMMARY:Trivia Mafia
DESCRIPTION:Join us every Wednesday for the “World’s Greatest Bar Trivia” hosted by Trivia Mafia. \n
URL:http://spiralbrewery.com/spiral-event/trivia-mafia-91/
CATEGORIES:Taproom Events
ATTACH;FMTTYPE=image/jpeg:http://spiralbrewery.com/wp-content/uploads/2019/07/SB_TriviaMafia.jpg
END:VEVENT
END:VCALENDAR