BEGIN:VCALENDAR
VERSION:2.0
PRODID:-//Spiral Brewery - ECPv4.9.4//NONSGML v1.0//EN
CALSCALE:GREGORIAN
METHOD:PUBLISH
X-WR-CALNAME:Spiral Brewery
X-ORIGINAL-URL:http://spiralbrewery.com
X-WR-CALDESC:Events for Spiral Brewery
BEGIN:VTIMEZONE
TZID:"UTC"
BEGIN:STANDARD
TZOFFSETFROM:+0000
TZOFFSETTO:+0000
TZNAME:UTC
DTSTART:20220101T000000
END:STANDARD
END:VTIMEZONE
BEGIN:VEVENT
DTSTART;TZID="UTC":20220730T153000
DTEND;TZID="UTC":20220730T190000
DTSTAMP:20260423T223805
CREATED:20220701T200456Z
LAST-MODIFIED:20220701T200456Z
UID:2179-1659195000-1659207600@spiralbrewery.com
SUMMARY:Spiral Tasting: All Pints North
DESCRIPTION:Gather on the beautiful shores of Lake Superior for an afternoon of great beer\, sights\, and community! See website for more info. \n
URL:http://spiralbrewery.com/spiral-event/spiral-tasting-all-pints-north/
CATEGORIES:Community Events
ATTACH;FMTTYPE=image/png:http://spiralbrewery.com/wp-content/uploads/2022/07/Screen-Shot-2022-07-01-at-3.04.32-PM.png
END:VEVENT
END:VCALENDAR