BEGIN:VCALENDAR
VERSION:2.0
PRODID:-//Spiral Brewery - ECPv4.9.4//NONSGML v1.0//EN
CALSCALE:GREGORIAN
METHOD:PUBLISH
X-WR-CALNAME:Spiral Brewery
X-ORIGINAL-URL:http://spiralbrewery.com
X-WR-CALDESC:Events for Spiral Brewery
BEGIN:VTIMEZONE
TZID:"UTC"
BEGIN:STANDARD
TZOFFSETFROM:+0000
TZOFFSETTO:+0000
TZNAME:UTC
DTSTART:20220101T000000
END:STANDARD
END:VTIMEZONE
BEGIN:VEVENT
DTSTART;TZID="UTC":20220728T170000
DTEND;TZID="UTC":20220728T200000
DTSTAMP:20260423T191951
CREATED:20220701T200006Z
LAST-MODIFIED:20220701T200006Z
UID:2175-1659027600-1659038400@spiralbrewery.com
SUMMARY:Spiral Tasting: Tally's Dockside
DESCRIPTION:Stop by Tally’s Dockside in White Bear Lake for a Spiral Brewery tap takeover with live music! \n
URL:http://spiralbrewery.com/spiral-event/spiral-tasting-tallys-dockside/
CATEGORIES:Community Events
END:VEVENT
END:VCALENDAR