BEGIN:VCALENDAR
VERSION:2.0
PRODID:-//Spiral Brewery - ECPv4.9.4//NONSGML v1.0//EN
CALSCALE:GREGORIAN
METHOD:PUBLISH
X-WR-CALNAME:Spiral Brewery
X-ORIGINAL-URL:http://spiralbrewery.com
X-WR-CALDESC:Events for Spiral Brewery
BEGIN:VTIMEZONE
TZID:"UTC"
BEGIN:STANDARD
TZOFFSETFROM:+0000
TZOFFSETTO:+0000
TZNAME:UTC
DTSTART:20220101T000000
END:STANDARD
END:VTIMEZONE
BEGIN:VEVENT
DTSTART;TZID="UTC":20220724T140000
DTEND;TZID="UTC":20220724T170000
DTSTAMP:20260423T125011
CREATED:20220701T195823Z
LAST-MODIFIED:20220701T195823Z
UID:2172-1658671200-1658682000@spiralbrewery.com
SUMMARY:Tap Takeover: Hastings Band Boosters
DESCRIPTION:Join us at the Spiral Taproom in support of the Middle and High School Band students and enjoy an afternoon of great tunes by Bok Choy. $1 of every beer purchased helps support the Boosters. See Facebook event for more. \n
URL:http://spiralbrewery.com/spiral-event/tap-takeover-hastings-band-boosters/
CATEGORIES:Community Events,Taproom Events
ATTACH;FMTTYPE=image/jpeg:http://spiralbrewery.com/wp-content/uploads/2022/07/BandBoosters_2022.jpeg
END:VEVENT
END:VCALENDAR