BEGIN:VCALENDAR
VERSION:2.0
PRODID:-//Spiral Brewery - ECPv4.9.4//NONSGML v1.0//EN
CALSCALE:GREGORIAN
METHOD:PUBLISH
X-WR-CALNAME:Spiral Brewery
X-ORIGINAL-URL:http://spiralbrewery.com
X-WR-CALDESC:Events for Spiral Brewery
BEGIN:VTIMEZONE
TZID:"UTC"
BEGIN:STANDARD
TZOFFSETFROM:+0000
TZOFFSETTO:+0000
TZNAME:UTC
DTSTART:20220101T000000
END:STANDARD
END:VTIMEZONE
BEGIN:VEVENT
DTSTART;TZID="UTC":20220723T140000
DTEND;TZID="UTC":20220723T180000
DTSTAMP:20260423T111553
CREATED:20220701T195418Z
LAST-MODIFIED:20220701T195418Z
UID:2168-1658584800-1658599200@spiralbrewery.com
SUMMARY:Spiral Tasting: Tap Takeover at Muddy's
DESCRIPTION:Stop by Muddy Water’s Bar and Grill in Prescott\, WI for a Spiral Brewery tap takeover\, featuring live music from The Bored. \n
URL:http://spiralbrewery.com/spiral-event/spiral-tasting-tap-takeover-at-muddys/
CATEGORIES:Community Events
END:VEVENT
END:VCALENDAR