BEGIN:VCALENDAR
VERSION:2.0
PRODID:-//Spiral Brewery - ECPv4.9.4//NONSGML v1.0//EN
CALSCALE:GREGORIAN
METHOD:PUBLISH
X-WR-CALNAME:Spiral Brewery
X-ORIGINAL-URL:http://spiralbrewery.com
X-WR-CALDESC:Events for Spiral Brewery
BEGIN:VTIMEZONE
TZID:"UTC"
BEGIN:STANDARD
TZOFFSETFROM:+0000
TZOFFSETTO:+0000
TZNAME:UTC
DTSTART:20220101T000000
END:STANDARD
END:VTIMEZONE
BEGIN:VEVENT
DTSTART;TZID="UTC":20220722T160000
DTEND;TZID="UTC":20220722T190000
DTSTAMP:20260423T095128
CREATED:20220701T195525Z
LAST-MODIFIED:20220701T195525Z
UID:2170-1658505600-1658516400@spiralbrewery.com
SUMMARY:Spiral Tasting: Merwin Liquors
DESCRIPTION:Visit Merwin Liquors in Shakopee to sample some Spiral brew and purchase a 4-pack! \n
URL:http://spiralbrewery.com/spiral-event/spiral-tasting-merwin-liquors/
CATEGORIES:Community Events
END:VEVENT
BEGIN:VEVENT
DTSTART;TZID="UTC":20220722T190000
DTEND;TZID="UTC":20220722T220000
DTSTAMP:20260423T095128
CREATED:20220701T195120Z
LAST-MODIFIED:20220701T195120Z
UID:2165-1658516400-1658527200@spiralbrewery.com
SUMMARY:Spiral Stage: Nate Case
DESCRIPTION:Join us in the taproom for live music on the Spiral Stage by Nate Case. \n
URL:http://spiralbrewery.com/spiral-event/spiral-stage-nate-case/
CATEGORIES:Taproom Events
ATTACH;FMTTYPE=image/jpeg:http://spiralbrewery.com/wp-content/uploads/2022/07/Nate-Case_music.jpeg
END:VEVENT
END:VCALENDAR