BEGIN:VCALENDAR
VERSION:2.0
PRODID:-//Spiral Brewery - ECPv4.9.4//NONSGML v1.0//EN
CALSCALE:GREGORIAN
METHOD:PUBLISH
X-WR-CALNAME:Spiral Brewery
X-ORIGINAL-URL:http://spiralbrewery.com
X-WR-CALDESC:Events for Spiral Brewery
BEGIN:VTIMEZONE
TZID:"UTC"
BEGIN:STANDARD
TZOFFSETFROM:+0000
TZOFFSETTO:+0000
TZNAME:UTC
DTSTART:20210101T000000
END:STANDARD
END:VTIMEZONE
BEGIN:VEVENT
DTSTART;TZID="UTC":20210903T180000
DTEND;TZID="UTC":20210903T210000
DTSTAMP:20260424T111928
CREATED:20210521T210546Z
LAST-MODIFIED:20210521T210546Z
UID:1608-1630692000-1630702800@spiralbrewery.com
SUMMARY:Downtown Summer Music Series: Nick Fox & the Metrognomes
DESCRIPTION:The Hastings Downtown Business Association presents the Downtown Summer Music Series. Live music outside in the first block of 2nd Street East every other Friday throughout summer! This Friday features Nick Fox and the Metrognomes! \n
URL:http://spiralbrewery.com/spiral-event/downtown-summer-music-series-nick-fox-the-metrognomes/
CATEGORIES:Community Events,Taproom Events
ATTACH;FMTTYPE=image/jpeg:http://spiralbrewery.com/wp-content/uploads/2019/07/hero-taproom.jpg
END:VEVENT
END:VCALENDAR