BEGIN:VCALENDAR
VERSION:2.0
PRODID:-//Spiral Brewery - ECPv4.9.4//NONSGML v1.0//EN
CALSCALE:GREGORIAN
METHOD:PUBLISH
X-WR-CALNAME:Spiral Brewery
X-ORIGINAL-URL:http://spiralbrewery.com
X-WR-CALDESC:Events for Spiral Brewery
BEGIN:VTIMEZONE
TZID:"UTC"
BEGIN:STANDARD
TZOFFSETFROM:+0000
TZOFFSETTO:+0000
TZNAME:UTC
DTSTART:20210101T000000
END:STANDARD
END:VTIMEZONE
BEGIN:VEVENT
DTSTART;TZID="UTC":20210812T180000
DTEND;TZID="UTC":20210812T200000
DTSTAMP:20260425T212647
CREATED:20210622T174712Z
LAST-MODIFIED:20210622T174712Z
UID:1635-1628791200-1628798400@spiralbrewery.com
SUMMARY:Pints and Purls
DESCRIPTION:Join MUSE2320 Fiber Co. at Spiral Brewery for our monthly Pints & Purls gathering. Bring your Fiber Friends or come and make new ones! Knitters\, crocheters\, weavers\, and all fiber artists are welcome to attend this social gathering — and there is no cost! \n
URL:http://spiralbrewery.com/spiral-event/pints-and-purls-6/
CATEGORIES:Community Events,Taproom Events
END:VEVENT
END:VCALENDAR