BEGIN:VCALENDAR
VERSION:2.0
PRODID:-//Spiral Brewery - ECPv4.9.4//NONSGML v1.0//EN
CALSCALE:GREGORIAN
METHOD:PUBLISH
X-WR-CALNAME:Spiral Brewery
X-ORIGINAL-URL:http://spiralbrewery.com
X-WR-CALDESC:Events for Spiral Brewery
BEGIN:VTIMEZONE
TZID:"UTC"
BEGIN:STANDARD
TZOFFSETFROM:+0000
TZOFFSETTO:+0000
TZNAME:UTC
DTSTART:20220101T000000
END:STANDARD
END:VTIMEZONE
BEGIN:VEVENT
DTSTART;TZID="UTC":20220729T160000
DTEND;TZID="UTC":20220729T180000
DTSTAMP:20260423T224720
CREATED:20220701T200134Z
LAST-MODIFIED:20220701T200134Z
UID:2177-1659110400-1659117600@spiralbrewery.com
SUMMARY:Spiral Tasting: Eagle Liquor
DESCRIPTION:Visit Eagle Liquor in Lino Lakes to sample some Spiral brew and purchase a 4-pack! \n
URL:http://spiralbrewery.com/spiral-event/spiral-tasting-eagle-liquor/
CATEGORIES:Community Events
END:VEVENT
END:VCALENDAR