BEGIN:VCALENDAR
VERSION:2.0
PRODID:-//Spiral Brewery - ECPv4.9.4//NONSGML v1.0//EN
CALSCALE:GREGORIAN
METHOD:PUBLISH
X-WR-CALNAME:Spiral Brewery
X-ORIGINAL-URL:http://spiralbrewery.com
X-WR-CALDESC:Events for Spiral Brewery
BEGIN:VTIMEZONE
TZID:"UTC"
BEGIN:STANDARD
TZOFFSETFROM:+0000
TZOFFSETTO:+0000
TZNAME:UTC
DTSTART:20210101T000000
END:STANDARD
END:VTIMEZONE
BEGIN:VEVENT
DTSTART;TZID="UTC":20210730T190000
DTEND;TZID="UTC":20210730T220000
DTSTAMP:20260421T130639
CREATED:20210622T184018Z
LAST-MODIFIED:20210622T184018Z
UID:1675-1627671600-1627682400@spiralbrewery.com
SUMMARY:Spiral Stage: Matt Browne
DESCRIPTION:Live music on the Spiral Stage from Matt Browne! \n
URL:http://spiralbrewery.com/spiral-event/spiral-stage-matt-browne/
CATEGORIES:Taproom Events
ATTACH;FMTTYPE=image/jpeg:http://spiralbrewery.com/wp-content/uploads/2021/06/Music_MattBrowne.jpeg
END:VEVENT
END:VCALENDAR