BEGIN:VCALENDAR
VERSION:2.0
PRODID:-//Spiral Brewery - ECPv4.9.4//NONSGML v1.0//EN
CALSCALE:GREGORIAN
METHOD:PUBLISH
X-WR-CALNAME:Spiral Brewery
X-ORIGINAL-URL:http://spiralbrewery.com
X-WR-CALDESC:Events for Spiral Brewery
BEGIN:VTIMEZONE
TZID:"UTC"
BEGIN:STANDARD
TZOFFSETFROM:+0000
TZOFFSETTO:+0000
TZNAME:UTC
DTSTART:20240101T000000
END:STANDARD
END:VTIMEZONE
BEGIN:VEVENT
DTSTART;TZID="UTC":20240719T170000
DTEND;TZID="UTC":20240721T200000
DTSTAMP:20260423T154539
CREATED:20240329T205736Z
LAST-MODIFIED:20240329T205736Z
UID:3082-1721408400-1721592000@spiralbrewery.com
SUMMARY:Rivertown Days!
DESCRIPTION:Experience a family friendly music festival with more than 20 bands on three stages in downtown Hastings\, MN!  Pre Sale tickets get you access to both days of continuous live music\, food trucks\, a carnival and street fair. \n$25 – WEEKEND PASS for ages 16 and older (15 and younger are FREE but must be accompanied by an adult)\nPre-sale prices expire on July 18th\, 2024. \nTickets will be available at the gate for $20 each day.  CASH ONLY. \nFind out more about the event at www.rivertowndaysmn.com \n
URL:http://spiralbrewery.com/spiral-event/rivertown-days/
CATEGORIES:Community Events,Taproom Events
ATTACH;FMTTYPE=image/jpeg:http://spiralbrewery.com/wp-content/uploads/2024/03/rtd.jpeg
END:VEVENT
END:VCALENDAR