BEGIN:VCALENDAR
VERSION:2.0
PRODID:-//Spiral Brewery - ECPv4.9.4//NONSGML v1.0//EN
CALSCALE:GREGORIAN
METHOD:PUBLISH
X-WR-CALNAME:Spiral Brewery
X-ORIGINAL-URL:http://spiralbrewery.com
X-WR-CALDESC:Events for Spiral Brewery
BEGIN:VTIMEZONE
TZID:"UTC"
BEGIN:STANDARD
TZOFFSETFROM:+0000
TZOFFSETTO:+0000
TZNAME:UTC
DTSTART:20220101T000000
END:STANDARD
END:VTIMEZONE
BEGIN:VEVENT
DTSTART;TZID="UTC":20220729T180000
DTEND;TZID="UTC":20220729T210000
DTSTAMP:20260423T223615
CREATED:20220525T184341Z
LAST-MODIFIED:20220525T185325Z
UID:2081-1659117600-1659128400@spiralbrewery.com
SUMMARY:Outdoor Music: Pat Wagner & the Sweet Peas
DESCRIPTION:Join us for the Downtown Hastings Friday Night Music Series outside in the 1st block of 2nd Street! Grab a spot at one of the parklets or bring your own chair to enjoy the musical stylings of Pat Wagner and the Sweet Peas. Organized by the Hastings Downtown Business Association. \n
URL:http://spiralbrewery.com/spiral-event/outdoor-music-pat-wagner-the-sweet-peas/
CATEGORIES:Community Events
ATTACH;FMTTYPE=image/png:http://spiralbrewery.com/wp-content/uploads/2022/05/DBA-Music_2022.png
END:VEVENT
END:VCALENDAR